BEGIN:VCALENDAR
VERSION:2.0
PRODID:-//Downtown Arcadia - ECPv6.15.17.1//NONSGML v1.0//EN
CALSCALE:GREGORIAN
METHOD:PUBLISH
X-WR-CALNAME:Downtown Arcadia
X-ORIGINAL-URL:https://downtownarcadia.org
X-WR-CALDESC:Events for Downtown Arcadia
REFRESH-INTERVAL;VALUE=DURATION:PT1H
X-Robots-Tag:noindex
X-PUBLISHED-TTL:PT1H
BEGIN:VTIMEZONE
TZID:America/Los_Angeles
BEGIN:DAYLIGHT
TZOFFSETFROM:-0800
TZOFFSETTO:-0700
TZNAME:PDT
DTSTART:20220313T100000
END:DAYLIGHT
BEGIN:STANDARD
TZOFFSETFROM:-0700
TZOFFSETTO:-0800
TZNAME:PST
DTSTART:20221106T090000
END:STANDARD
BEGIN:DAYLIGHT
TZOFFSETFROM:-0800
TZOFFSETTO:-0700
TZNAME:PDT
DTSTART:20230312T100000
END:DAYLIGHT
BEGIN:STANDARD
TZOFFSETFROM:-0700
TZOFFSETTO:-0800
TZNAME:PST
DTSTART:20231105T090000
END:STANDARD
BEGIN:DAYLIGHT
TZOFFSETFROM:-0800
TZOFFSETTO:-0700
TZNAME:PDT
DTSTART:20240310T100000
END:DAYLIGHT
BEGIN:STANDARD
TZOFFSETFROM:-0700
TZOFFSETTO:-0800
TZNAME:PST
DTSTART:20241103T090000
END:STANDARD
BEGIN:DAYLIGHT
TZOFFSETFROM:-0800
TZOFFSETTO:-0700
TZNAME:PDT
DTSTART:20250309T100000
END:DAYLIGHT
BEGIN:STANDARD
TZOFFSETFROM:-0700
TZOFFSETTO:-0800
TZNAME:PST
DTSTART:20251102T090000
END:STANDARD
BEGIN:DAYLIGHT
TZOFFSETFROM:-0800
TZOFFSETTO:-0700
TZNAME:PDT
DTSTART:20260308T100000
END:DAYLIGHT
BEGIN:STANDARD
TZOFFSETFROM:-0700
TZOFFSETTO:-0800
TZNAME:PST
DTSTART:20261101T090000
END:STANDARD
END:VTIMEZONE
BEGIN:VEVENT
DTSTART;TZID=America/Los_Angeles:20251214T110000
DTEND;TZID=America/Los_Angeles:20251214T160000
DTSTAMP:20260424T022818
CREATED:20251112T182711Z
LAST-MODIFIED:20251112T182711Z
UID:56691-1765710000-1765728000@downtownarcadia.org
SUMMARY:The Holiday Fair 2025
DESCRIPTION:[vc_row css=”.vc_custom_1729521855108{padding-bottom: 5% !important;}”][vc_column][/vc_column][/vc_row][vc_row][vc_column][vc_column_text css=”.vc_custom_1762968478993{padding-bottom: 5% !important;}”] \nCelebrate the magic of the season at Downtown Arcadia’s Holiday Fair\nEnjoy entertainment\, free kids’ activities\, visits with Santa\, Mrs. Claus story time\, shopping\, and delicious food from a variety of food trucks and local restaurants. \nWhen: Saturday\, December 13\, 2025 \nTime: 11am – 4pm\nFirst Ave. in Downtown Arcadia between Huntington Dr. and California St. \nEnter to win \nOur BIG GIVEAWAY \nWe’re giving away awesome prizes: \n\nREI Bikes\, donated by Downtown Arcadia\nComplimentary Night Stay at the new Hilton Arcadia\nFamily 4 pack of tickets to Enchant at Santa Anita Park\n\n[/vc_column_text][/vc_column][/vc_row][vc_row css=”.vc_custom_1731278249140{padding-bottom: 3% !important;}”][vc_column]Enter To Win Here[/vc_column][/vc_row][vc_row css=”.vc_custom_1762970551882{padding-bottom: 5% !important;}”][vc_column][vc_column_text css=””]The BIG GIVEAWAY will be held at 3pm at the DJ stage on Bonita Avenue. \nYOU MUST BE PRESENT TO WIN at the event on December 14\, 2024.[/vc_column_text][/vc_column][/vc_row][vc_row css=”.vc_custom_1762970503771{padding-bottom: 5% !important;}”][vc_column][vc_column_text css=”.vc_custom_1762970416919{padding-top: 3% !important;padding-bottom: 3% !important;background-color: #3D5A48 !important;}”] \nSchedule\n[/vc_column_text][/vc_column][vc_column][vc_column_text css=”.vc_custom_1762969759059{padding-top: 3% !important;}”] \n\n5am Road Closure Begins (First Ave. from Huntington Dr. to California St.)\n11:00am event opens\n11:10am opening remarks 25 S. First\n11:30am promenade 25 S. First to California St.\n11:00am – 4pm Free Carnival Games For Kids\n11:30am – 4pm Neighborhood Music School concert\n12:30pm Nelson Lee Magician: DJ Stage at Bonita\n2:15pm Arcadia High School Chinese Parents Booster Club Singers: DJ Stage at Bonita\n2:30pm Licatta Brothers: DJ Stage at Bonita\n3pm Big Giveaway at DJ Stage at Bonita\n4pm event ends\n\nThere is so much more going on like a Toy Drive\, a Pet Food and Toy Drive\, Food\, Beer\, Wine\, so much family fun![/vc_column_text][/vc_column][/vc_row][vc_row css=”.vc_custom_1731278302427{padding-bottom: 3% !important;}”][vc_column]More information about food and entertainment[/vc_column][/vc_row][vc_row][vc_column][vc_column_text css=””][/vc_column_text][/vc_column][/vc_row]
URL:https://downtownarcadia.org/events-downtown-arcadia/the-holiday-fair-2025/
LOCATION:Downtown Arcadia\, First Ave.\, Arcadia\, CA\, 91006
CATEGORIES:Holiday Fair
END:VEVENT
BEGIN:VEVENT
DTSTART;TZID=America/Los_Angeles:20241214T110000
DTEND;TZID=America/Los_Angeles:20241214T160000
DTSTAMP:20260424T022818
CREATED:20241110T224239Z
LAST-MODIFIED:20250304T173609Z
UID:56375-1734174000-1734192000@downtownarcadia.org
SUMMARY:Holiday Fair 2024
DESCRIPTION:[vc_row css=”.vc_custom_1729521855108{padding-bottom: 5% !important;}”][vc_column][/vc_column][/vc_row][vc_row][vc_column][vc_column_text css=”.vc_custom_1731276712140{padding-bottom: 5% !important;}”] \nDowntown Arcadia’s Holiday Fair\nCelebrating the magic of the season\nWhen: Saturday\, December 14\, 2024 \nTime: 11am – 4pm\nFirst Ave. in Downtown Arcadia between Huntington Dr. and California St. \nEnjoy entertainment\, free kids’ activities\, visits with Santa\, shopping\, and savor delicious food from a variety of food trucks and local restaurants. \nEnter to win \nOur BIG GIVEAWAY \nWe’re giving away awesome prizes: \n\nREI Bikes\, donated by Downtown Arcadia\nSports Tickets donated by Steven Rhee of Re/Max Commercial\nLe Meridien Complimentary Night Stay with Valet Parking\n\n[/vc_column_text][/vc_column][/vc_row][vc_row css=”.vc_custom_1731278249140{padding-bottom: 3% !important;}”][vc_column]Enter To Win Here[/vc_column][/vc_row][vc_row css=”.vc_custom_1731276883338{padding-bottom: 3% !important;}”][vc_column][vc_column_text css=””]The Big Give Away will be held at 2:30pm at the Stage on California Street. \nYOU MUST BE PRESENT TO WIN at the event on December 14\, 2024.[/vc_column_text][/vc_column][/vc_row][vc_row css=”.vc_custom_1731278294441{padding-bottom: 3% !important;}”][vc_column][vc_column_text css=””] \nSchedule\n\n 5am Road Closure Begins (First Ave. from Huntington Dr. to Diamond St.)\n11am Event Opens\n11:30am Promenade Mini Walking Parade with community groups and the Arcadia High School Pep Band. Huntington Dr. to California St.\n11am – 4pm Neighborhood Music School Stage Performances\n11am – 4pm Music\, fun and games with DJ John Villa at California St. stage\n2:30 pm BIG GIVE AWAY at California St. Stage\n\nTOY DRIVE\nFoothill Unity Center will be collecting toys during the Holiday Fair. See wish list below. Your generosity will bring smiles to children in need.[/vc_column_text][/vc_column][/vc_row][vc_row css=”.vc_custom_1731278302427{padding-bottom: 3% !important;}”][vc_column]More information about food and entertainment[/vc_column][/vc_row][vc_row][vc_column][vc_column_text css=””][/vc_column_text][/vc_column][/vc_row]
URL:https://downtownarcadia.org/events-downtown-arcadia/holiday-fair-2024/
LOCATION:Downtown Arcadia\, First Ave.\, Arcadia\, CA\, 91006
CATEGORIES:Holiday Fair
ATTACH;FMTTYPE=image/jpeg:https://downtownarcadia.org/wp-content/uploads/2024/11/Square-600.jpg
END:VEVENT
BEGIN:VEVENT
DTSTART;TZID=America/Los_Angeles:20231209T110000
DTEND;TZID=America/Los_Angeles:20231209T160000
DTSTAMP:20260424T022818
CREATED:20231114T015520Z
LAST-MODIFIED:20231115T164305Z
UID:56194-1702119600-1702137600@downtownarcadia.org
SUMMARY:Holiday Fair 2023
DESCRIPTION:[vc_row][vc_column]Downtown Arcadia Holiday Fair 2023[/vc_column][/vc_row][vc_row css=”.vc_custom_1695416734005{padding-bottom: 3% !important;}”][vc_column][vc_column_text]Celebrate the magic of the season at Downtown Arcadia’s Holiday Fair \nEnjoy entertainment\, free kids’ activities\, visits with Santa\, shopping\, and savor delicious food from a variety of food trucks and local restaurants. \nSaturday\, December 9\, 2023\, 11AM – 4pm\nFirst Ave. in Downtown Arcadia between Huntington Dr. and California St. \nBIG GIVE AWAY\nYou could win awesome prizes like: \n\nREI Bikes\nSports Tickets donated by Steven Rhee of Re/Max Commercial\nTickets to Big Bad VooDoo Daddy donated by Arcadia Performing Arts Foundation\nHigh Tea For 2 at Le Meridien\nDinner at Melange at Le Meridien\n\nSEE The Full List Of Prizes\, Enter To Win\, And More Information.[/vc_column_text][/vc_column][/vc_row][vc_row css=”.vc_custom_1695416445250{padding-bottom: 3% !important;}”][vc_column][/vc_column][/vc_row]
URL:https://downtownarcadia.org/events-downtown-arcadia/holiday-fair-2023/
LOCATION:Downtown Arcadia\, First Ave.\, Arcadia\, CA\, 91006
CATEGORIES:Holiday Fair
ATTACH;FMTTYPE=image/jpeg:https://downtownarcadia.org/wp-content/uploads/2023/11/Square-900.jpg
END:VEVENT
END:VCALENDAR